BEGIN:VCALENDAR
VERSION:2.0
PRODID:-//ChamberMaster//Event Calendar 2.0//EN
METHOD:PUBLISH
X-PUBLISHED-TTL:P3D
REFRESH-INTERVAL:P3D
CALSCALE:GREGORIAN
BEGIN:VEVENT
DTSTART:20211111T013000Z
DTEND:20211111T033000Z
X-MICROSOFT-CDO-ALLDAYEVENT:FALSE
SUMMARY:2021 November Virtual Showcase
DESCRIPTION:
X-ALT-DESC;FMTTYPE=text/html:
LOCATION:Register for the online Zoom event info.
UID:e.2076.6791
SEQUENCE:3
DTSTAMP:20260423T115751Z
URL:https://business.edenareachamber.com/events/details/2021-november-virtual-showcase-6791
END:VEVENT

END:VCALENDAR
