BEGIN:VCALENDAR
VERSION:2.0
PRODID:-//ChamberMaster//Event Calendar 2.0//EN
METHOD:PUBLISH
X-PUBLISHED-TTL:P3D
REFRESH-INTERVAL:P3D
CALSCALE:GREGORIAN
BEGIN:VEVENT
DTSTART:20260425T020000Z
DTEND:20260425T040000Z
X-MICROSOFT-CDO-ALLDAYEVENT:FALSE
SUMMARY:Benefit Show for Warzones
DESCRIPTION:AN EVENING OF ART IN SOLIDARITY WITH COMMUNITIES IMPACTED BY CONFLICT\n\n\n\nTogether with Partners in Relief Development\, we are creating a night of protest\, support\, and solidarity with those suffering in the Middle East. Help us create art that tells their stories and supports relief efforts across the Middle East and Southeast Asia.\n\n\n\nThe night features a set from The Soapbox Salute\, and will be followed by our artist community (including you!) sharing songs\, poems\, visual art\, or anything else\, open mic style. Interested in sharing art in solidarity with those impacted by war? Fill out the form here to express interest. Note: There is a 5-minute time limit for [presentations/submissions].
X-ALT-DESC;FMTTYPE=text/html:AN EVENING OF ART IN SOLIDARITY WITH COMMUNITIES IMPACTED BY CONFLICT<br />\n<br />\nTogether with Partners in Relief Development\, we are creating a night of protest\, support\, and solidarity with those suffering in the Middle East. Help us create art that tells their stories and supports relief efforts across the Middle East and Southeast Asia.<br />\n<br />\nThe night features a set from The Soapbox Salute\, and will be followed by our artist community (including you!) sharing songs\, poems\, visual art\, or anything else\, open mic style. Interested in sharing art in solidarity with those impacted by war? Fill out the form here to express interest.<em> Note: There is a 5-minute time limit for [presentations/submissions].</em>
LOCATION:2490 Grove Way How to Find The Clinic: We work out of a space in First Presbyterian Church\, but are not a part of the church. To find our office\, park in the lot behind Trader Joe's\, near the Gymnasium. Find the string lights and you will see a door that has a sign that says "Clinic".
UID:e.2076.7572
SEQUENCE:3
DTSTAMP:20260422T235122Z
URL:https://business.edenareachamber.com/events/details/benefit-show-for-warzones-7572
END:VEVENT

END:VCALENDAR
