BEGIN:VCALENDAR
VERSION:2.0
PRODID:-//ChamberMaster//Event Calendar 2.0//EN
METHOD:PUBLISH
X-PUBLISHED-TTL:P3D
REFRESH-INTERVAL:P3D
CALSCALE:GREGORIAN
BEGIN:VEVENT
DTSTART:20250215T040000Z
DTEND:20250215T060000Z
X-MICROSOFT-CDO-ALLDAYEVENT:FALSE
SUMMARY:Tenderly: The Songbook of Ella Fitzgerald
DESCRIPTION:Join us for a captivating Valentine's Day celebration with Stella Heath and the Starlights as they present the Songbook of Ella Fitzgerald. This special performance will be a heartfelt homage to the First Lady of Song\, blending her timeless music with fascinating historical stories and meticulous research.
X-ALT-DESC;FMTTYPE=text/html:Join us for a captivating Valentine's Day celebration with Stella Heath and the Starlights as they present the Songbook of Ella Fitzgerald. This special performance will be a heartfelt homage to the First Lady of Song\, blending her timeless music with fascinating historical stories and meticulous research.
LOCATION:22311 N 3rd St\, Hayward
UID:e.2076.7430
SEQUENCE:3
DTSTAMP:20260424T031115Z
URL:https://business.edenareachamber.com/events/details/tenderly-the-songbook-of-ella-fitzgerald-7430
END:VEVENT

END:VCALENDAR
